BEGIN:VCALENDAR
VERSION:2.0
PRODID:-//Drupal//recurring_events_ical//2.0//EN
BEGIN:VEVENT
UID:cd482d0b-2a81-4a4e-8ef7-26318720c452@www.stbarnabasottawa.com
DTSTAMP:20240604T181438Z
DTSTART:20240707T123000Z
DTEND:20240707T130000Z
SUMMARY:Low Mass, Book of Common Prayer
CONTACT:parish.office@stbarnabasottawa.com
DESCRIPTION:Propers: p. 226
GEO:45.4122331;-75.697127
LOCATION:70 James St, Ottawa, ON K1R 5M3
URL:https://www.stbarnabasottawa.com/services/low-mass-book-common-prayer-1
 1
END:VEVENT
BEGIN:VEVENT
UID:4b7bde1b-e5a7-4b02-b881-cb45645e9ee8@www.stbarnabasottawa.com
DTSTAMP:20240604T182732Z
DTSTART:20240714T123000Z
DTEND:20240714T130000Z
SUMMARY:Low Mass, Book of Common Prayer
CONTACT:parish.office@stbarnabasottawa.com
DESCRIPTION:Propers: p. 228
GEO:45.4122331;-75.697127
LOCATION:70 James St, Ottawa, ON K1R 5M3
URL:https://www.stbarnabasottawa.com/services/low-mass-book-common-prayer-1
 2
END:VEVENT
BEGIN:VEVENT
UID:87c33c2d-6167-4e6c-b96d-b1bf1a418e69@www.stbarnabasottawa.com
DTSTAMP:20240604T183438Z
DTSTART:20240721T123000Z
DTEND:20240721T130000Z
SUMMARY:Low Mass, Book of Common Prayer
CONTACT:parish.office@stbarnabasottawa.com
DESCRIPTION:Propers: p. 229
GEO:45.4122331;-75.697127
LOCATION:70 James St, Ottawa, ON K1R 5M3
URL:https://www.stbarnabasottawa.com/services/low-mass-book-common-prayer-1
 3
END:VEVENT
BEGIN:VEVENT
UID:cc526088-0c4a-45f7-a2d5-8c0d8d5b0963@www.stbarnabasottawa.com
DTSTAMP:20240604T183731Z
DTSTART:20240728T123000Z
DTEND:20240728T130000Z
SUMMARY:Low Mass, Book of Common Prayer
CONTACT:parish.office@stbarnabasottawa.com
DESCRIPTION:Propers: p. 231
GEO:45.4122331;-75.697127
LOCATION:70 James St, Ottawa, ON K1R 5M3
URL:https://www.stbarnabasottawa.com/services/low-mass-book-common-prayer-1
 4
END:VEVENT
BEGIN:VEVENT
UID:cd25385b-96df-4208-882e-085f3ecf506b@www.stbarnabasottawa.com
DTSTAMP:20240604T184003Z
DTSTART:20240804T123000Z
DTEND:20240804T130000Z
SUMMARY:Low Mass, Book of Common Prayer
CONTACT:parish.office@stbarnabasottawa.com
DESCRIPTION:Propers: p.233
GEO:45.4122331;-75.697127
LOCATION:70 James St, Ottawa, ON K1R 5M3
URL:https://www.stbarnabasottawa.com/services/low-mass-book-common-prayer-1
 5
END:VEVENT
BEGIN:VEVENT
UID:ca47483b-5a7b-4178-96da-76aef905b672@www.stbarnabasottawa.com
DTSTAMP:20240604T184256Z
DTSTART:20240811T123000Z
DTEND:20240811T130000Z
SUMMARY:Low Mass, Book of Common Prayer
CONTACT:parish.office@stbarnabasottawa.com
DESCRIPTION:Propers: p. 234
GEO:45.4122331;-75.697127
LOCATION:70 James St, Ottawa, ON K1R 5M3
URL:https://www.stbarnabasottawa.com/services/low-mass-book-common-prayer-1
 6
END:VEVENT
BEGIN:VEVENT
UID:89ba6e2c-ee25-41f2-b984-77ab77fbb649@www.stbarnabasottawa.com
DTSTAMP:20240604T184542Z
DTSTART:20240818T123000Z
DTEND:20240818T130000Z
SUMMARY:Low Mass, Book of Common Prayer
CONTACT:parish.office@stbarnabasottawa.com
DESCRIPTION:Propers: p. 309
GEO:45.4122331;-75.697127
LOCATION:70 James St, Ottawa, ON K1R 5M3
URL:https://www.stbarnabasottawa.com/services/low-mass-book-common-prayer-1
 7
END:VEVENT
BEGIN:VEVENT
UID:c7e03d31-f0bd-4a95-8514-d61cf977bb1e@www.stbarnabasottawa.com
DTSTAMP:20240604T184822Z
DTSTART:20240825T123000Z
DTEND:20240825T130000Z
SUMMARY:Low Mass, Book of Common Prayer
CONTACT:parish.office@stbarnabasottawa.com
DESCRIPTION:Propers: p. 237
GEO:45.4122331;-75.697127
LOCATION:70 James St, Ottawa, ON K1R 5M3
URL:https://www.stbarnabasottawa.com/services/low-mass-book-common-prayer-1
 8
END:VEVENT
BEGIN:VEVENT
UID:eadcf3f2-e73d-4778-a1b2-ac263ad958d6@www.stbarnabasottawa.com
DTSTAMP:20240604T185100Z
DTSTART:20240901T123000Z
DTEND:20240901T130000Z
SUMMARY:Low Mass, Book of Common Prayer
CONTACT:parish.office@stbarnabasottawa.com
DESCRIPTION:Propers: p. 239
GEO:45.4122331;-75.697127
LOCATION:70 James St, Ottawa, ON K1R 5M3
URL:https://www.stbarnabasottawa.com/services/low-mass-book-common-prayer-1
 9
END:VEVENT
END:VCALENDAR