BEGIN:VCALENDAR
VERSION:2.0
PRODID:-//Drupal//recurring_events_ical//2.0//EN
BEGIN:VEVENT
UID:dfc2786e-a084-4efe-8535-6a5e19b23be3@www.stbarnabasottawa.com
DTSTAMP:20240907T084410Z
DTSTART:20241001T140000Z
DTEND:20241001T143000Z
SUMMARY:Mass, Book of Common Prayer
CONTACT:parish.office@stbarnabasottawa.com
DESCRIPTION:Feria, Votive for the SickColour: WhiteIntroit Booklet: # 124Pr
 opers: p. 582Celebrant: Fr. TudinIntention: For all living with chronic pa
 in and their families.
GEO:45.4122331;-75.697127
LOCATION:70 James St, Ottawa, ON K1R 5M3
URL:https://www.stbarnabasottawa.com/services/mass-book-common-prayer-74
END:VEVENT
END:VCALENDAR