BEGIN:VCALENDAR
VERSION:2.0
PRODID:-//Drupal//recurring_events_ical//2.0//EN
BEGIN:VEVENT
UID:08866e56-f38e-4c09-a8bc-cfbcf977aa1d@www.stbarnabasottawa.com
DTSTAMP:20240907T083909Z
DTSTART:20241022T133000Z
DTEND:20241022T140000Z
SUMMARY:Morning Prayer
CONTACT:parish.office@stbarnabasottawa.com
GEO:45.4122331;-75.697127
LOCATION:70 James St, Ottawa, ON K1R 5M3
URL:https://www.stbarnabasottawa.com/services/morning-prayer-48
END:VEVENT
END:VCALENDAR