BEGIN:VCALENDAR
VERSION:2.0
PRODID:-//Drupal//recurring_events_ical//2.0//EN
BEGIN:VEVENT
UID:7119c974-c073-4d3c-b633-5c7bd8222775@www.stbarnabasottawa.com
DTSTAMP:20240831T153914Z
DTSTART:20240721T143000Z
DTEND:20240721T160000Z
SUMMARY:Solemn High Mass
CONTACT:parish.office@stbarnabasottawa.com
DESCRIPTION:Colour: Green Propers: p. 368II Samuel 7:1-14a Psalm 89:20-36
 Ephesians 2:11-22Mark 6:30-34, 53-56
GEO:45.4122331;-75.697127
LOCATION:70 James St, Ottawa, ON K1R 5M3
URL:https://www.stbarnabasottawa.com/services/solemn-high-mass-80
END:VEVENT
END:VCALENDAR