BEGIN:VCALENDAR
VERSION:2.0
PRODID:-//Drupal//recurring_events_ical//2.0//EN
BEGIN:VEVENT
UID:17590c30-753b-44b6-9cc2-452a2961a697@www.stbarnabasottawa.com
DTSTAMP:20240604T183934Z
DTSTART:20240802T113000Z
DTEND:20240802T120000Z
SUMMARY:Mass, Book of Common Prayer
CONTACT:parish.office@stbarnabasottawa.com
DESCRIPTION:Requiem for July/August Colour: Black Introit Booklet: # 109
  Propers: p. 608 Celebrant: Fr. Raths Intention: For all the faithful d
 eparted.
GEO:45.4122331;-75.697127
LOCATION:70 James St, Ottawa, ON K1R 5M3
URL:https://www.stbarnabasottawa.com/services/mass-book-common-prayer-49
END:VEVENT
END:VCALENDAR