BEGIN:VCALENDAR
VERSION:2.0
PRODID:-//Drupal//recurring_events_ical//2.0//EN
BEGIN:VEVENT
UID:9795935b-1e3f-4f55-8b66-84a5d8fa33fd@www.stbarnabasottawa.com
DTSTAMP:20240604T185227Z
DTSTART:20240903T140000Z
DTEND:20240903T143000Z
SUMMARY:Mass, Book of Common Prayer
CONTACT:parish.office@stbarnabasottawa.com
DESCRIPTION:St. Gregory the Great, Bishop of Rome, 604Colour: White Introi
 t Booklet # 116Propers: FAS p. 269Celebrant: Fr. MurrayIntention: For Wesl
 ey Warren and members of the Parish Choir.
GEO:45.4122331;-75.697127
LOCATION:70 James St, Ottawa, ON K1R 5M3
URL:https://www.stbarnabasottawa.com/services/mass-book-common-prayer-45
END:VEVENT
END:VCALENDAR