BEGIN:VCALENDAR
VERSION:2.0
PRODID:-//Drupal//recurring_events_ical//2.0//EN
BEGIN:VEVENT
UID:d60adec8-7489-48ce-b5e8-fab87d4cdf85@www.stbarnabasottawa.com
DTSTAMP:20240604T180518Z
DTSTART:20240723T133000Z
DTEND:20240723T140000Z
SUMMARY:Morning Prayer
CONTACT:parish.office@stbarnabasottawa.com
GEO:45.4122331;-75.697127
LOCATION:70 James St, Ottawa, ON K1R 5M3
URL:https://www.stbarnabasottawa.com/events/385
END:VEVENT
END:VCALENDAR