BEGIN:VCALENDAR
VERSION:2.0
PRODID:-//Drupal//recurring_events_ical//2.0//EN
BEGIN:VEVENT
UID:e5671574-1161-4152-867e-2b513e73c260@www.stbarnabasottawa.com
DTSTAMP:20240525T142310Z
DTSTART:20230205T153000Z
DTEND:20230205T170000Z
SUMMARY:Solemn High Mass
CONTACT:parish.office@stbarnabasottawa.com
GEO:45.4122331;-75.697127
LOCATION:70 James St, Ottawa, ON K1R 5M3
URL:https://www.stbarnabasottawa.com/services/solemn-high-mass-17
END:VEVENT
END:VCALENDAR