BEGIN:VCALENDAR
VERSION:2.0
PRODID:-//Drupal//recurring_events_ical//2.0//EN
BEGIN:VEVENT
UID:477fe8f1-8447-4882-9343-5ed90bd1602b@www.stbarnabasottawa.com
DTSTAMP:20251219T191941Z
DTSTART:20260714T140000Z
DTEND:20260714T144500Z
SUMMARY:Mass, Book of Common Prayer
CONTACT:parish.office@stbarnabasottawa.com
GEO:45.4122331;-75.697127
LOCATION:70 James St, Ottawa, ON K1R 5M3
URL:https://www.stbarnabasottawa.com/services/mass-book-common-prayer-179
END:VEVENT
END:VCALENDAR